Package: anota Version: 1.48.0 Command: rm -rf anota.buildbin-libdir && mkdir anota.buildbin-libdir && /Users/biocbuild/BBS/utils/build-universal.sh anota_1.48.0.tar.gz /Library/Frameworks/R.framework/Resources/bin/R anota.buildbin-libdir StartedAt: 2023-10-16 08:57:52 -0400 (Mon, 16 Oct 2023) EndedAt: 2023-10-16 08:58:26 -0400 (Mon, 16 Oct 2023) EllapsedTime: 34.6 seconds RetCode: 0 Status: OK PackageFile: anota_1.48.0.tgz PackageFileSize: 712.5 KiB