Package: annotationTools Version: 1.74.0 Command: /home/biocbuild/bbs-3.17-bioc/R/bin/R CMD INSTALL annotationTools StartedAt: 2023-10-15 15:09:35 -0400 (Sun, 15 Oct 2023) EndedAt: 2023-10-15 15:09:51 -0400 (Sun, 15 Oct 2023) EllapsedTime: 16.3 seconds RetCode: 0 Status: OK