Package: annotationTools Version: 1.74.0 Command: /home/biocbuild/bbs-3.17-bioc/R/bin/R CMD check --install=check:annotationTools.install-out.txt --library=/home/biocbuild/bbs-3.17-bioc/R/site-library --timings annotationTools_1.74.0.tar.gz StartedAt: 2023-10-15 19:12:11 -0400 (Sun, 15 Oct 2023) EndedAt: 2023-10-15 19:12:39 -0400 (Sun, 15 Oct 2023) EllapsedTime: 28.0 seconds RetCode: 0 Status: OK CheckDir: annotationTools.Rcheck Warnings: 0