Package: annotationTools Version: 1.74.0 Command: /home/biocbuild/bbs-3.17-bioc/R/bin/R CMD build --keep-empty-dirs --no-resave-data annotationTools StartedAt: 2023-10-15 15:55:25 -0400 (Sun, 15 Oct 2023) EndedAt: 2023-10-15 15:55:33 -0400 (Sun, 15 Oct 2023) EllapsedTime: 7.2 seconds RetCode: 0 Status: OK PackageFile: annotationTools_1.74.0.tar.gz PackageFileSize: 333.8 KiB