Package: annotationTools Version: 1.74.0 Command: /Library/Frameworks/R.framework/Resources/bin/R CMD build --keep-empty-dirs --no-resave-data annotationTools StartedAt: 2023-10-15 16:42:32 -0400 (Sun, 15 Oct 2023) EndedAt: 2023-10-15 16:42:58 -0400 (Sun, 15 Oct 2023) EllapsedTime: 25.2 seconds RetCode: 0 Status: OK PackageFile: annotationTools_1.74.0.tar.gz PackageFileSize: 333.7 KiB