Package: annotate Version: 1.78.0 Command: chmod a+r annotate -R && F:\biocbuild\bbs-3.17-bioc\R\bin\R.exe CMD build --keep-empty-dirs --no-resave-data annotate StartedAt: 2023-10-15 17:13:50 -0400 (Sun, 15 Oct 2023) EndedAt: 2023-10-15 17:21:57 -0400 (Sun, 15 Oct 2023) EllapsedTime: 486.9 seconds RetCode: 0 Status: OK PackageFile: annotate_1.78.0.tar.gz PackageFileSize: 1.434 MiB