Package: annotate Version: 1.78.0 Command: /Library/Frameworks/R.framework/Resources/bin/R CMD INSTALL annotate StartedAt: 2023-10-15 15:24:53 -0400 (Sun, 15 Oct 2023) EndedAt: 2023-10-15 15:25:50 -0400 (Sun, 15 Oct 2023) EllapsedTime: 56.1 seconds RetCode: 0 Status: OK