Package: annotate Version: 1.78.0 Command: /Library/Frameworks/R.framework/Resources/bin/R CMD build --keep-empty-dirs --no-resave-data annotate StartedAt: 2023-10-15 16:42:00 -0400 (Sun, 15 Oct 2023) EndedAt: 2023-10-15 16:45:38 -0400 (Sun, 15 Oct 2023) EllapsedTime: 218.3 seconds RetCode: 0 Status: OK PackageFile: annotate_1.78.0.tar.gz PackageFileSize: 1.523 MiB