Package: animalcules Version: 1.16.0 Command: chmod a+r animalcules -R && F:\biocbuild\bbs-3.17-bioc\R\bin\R.exe CMD build --keep-empty-dirs --no-resave-data animalcules StartedAt: 2023-10-15 17:13:44 -0400 (Sun, 15 Oct 2023) EndedAt: 2023-10-15 17:15:02 -0400 (Sun, 15 Oct 2023) EllapsedTime: 78.1 seconds RetCode: 0 Status: OK PackageFile: animalcules_1.16.0.tar.gz PackageFileSize: 3.144 MiB