Package: amplican Version: 1.22.1 Command: F:\biocbuild\bbs-3.17-bioc\R\bin\R.exe CMD INSTALL amplican StartedAt: 2023-10-15 16:19:35 -0400 (Sun, 15 Oct 2023) EndedAt: 2023-10-15 16:20:17 -0400 (Sun, 15 Oct 2023) EllapsedTime: 41.5 seconds RetCode: 0 Status: OK