Package: amplican Version: 1.22.1 Command: F:\biocbuild\bbs-3.17-bioc\R\bin\R.exe CMD check --no-multiarch --install=check:amplican.install-out.txt --library=F:\biocbuild\bbs-3.17-bioc\R\library --no-vignettes --timings amplican_1.22.1.tar.gz StartedAt: 2023-10-15 23:24:07 -0400 (Sun, 15 Oct 2023) EndedAt: 2023-10-15 23:27:06 -0400 (Sun, 15 Oct 2023) EllapsedTime: 179.1 seconds RetCode: 0 Status: OK CheckDir: amplican.Rcheck Warnings: 0