Package: amplican Version: 1.22.1 Command: rm -rf amplican.buildbin-libdir && mkdir amplican.buildbin-libdir && /Users/biocbuild/BBS/utils/build-universal.sh amplican_1.22.1.tar.gz /Library/Frameworks/R.framework/Resources/bin/R amplican.buildbin-libdir StartedAt: 2023-10-16 08:57:15 -0400 (Mon, 16 Oct 2023) EndedAt: 2023-10-16 08:58:58 -0400 (Mon, 16 Oct 2023) EllapsedTime: 102.3 seconds RetCode: 0 Status: OK PackageFile: amplican_1.22.1.tgz PackageFileSize: 8.58 MiB