Package: altcdfenvs Version: 2.62.0 Command: F:\biocbuild\bbs-3.17-bioc\R\bin\R.exe CMD INSTALL altcdfenvs StartedAt: 2023-10-15 15:55:47 -0400 (Sun, 15 Oct 2023) EndedAt: 2023-10-15 15:56:09 -0400 (Sun, 15 Oct 2023) EllapsedTime: 21.5 seconds RetCode: 0 Status: OK