Package: altcdfenvs Version: 2.62.0 Command: rm -rf altcdfenvs.buildbin-libdir && mkdir altcdfenvs.buildbin-libdir && F:\biocbuild\bbs-3.17-bioc\R\bin\R.exe CMD INSTALL --build --library=altcdfenvs.buildbin-libdir altcdfenvs_2.62.0.tar.gz StartedAt: 2023-10-16 08:24:20 -0400 (Mon, 16 Oct 2023) EndedAt: 2023-10-16 08:24:43 -0400 (Mon, 16 Oct 2023) EllapsedTime: 22.7 seconds RetCode: 0 Status: OK PackageFile: altcdfenvs_2.62.0.zip PackageFileSize: 795.2 KiB