Package: altcdfenvs Version: 2.62.0 Command: /home/biocbuild/bbs-3.17-bioc/R/bin/R CMD INSTALL altcdfenvs StartedAt: 2023-10-15 15:11:10 -0400 (Sun, 15 Oct 2023) EndedAt: 2023-10-15 15:11:24 -0400 (Sun, 15 Oct 2023) EllapsedTime: 13.7 seconds RetCode: 0 Status: OK