Package: altcdfenvs Version: 2.62.0 Command: /Library/Frameworks/R.framework/Resources/bin/R CMD INSTALL altcdfenvs StartedAt: 2023-10-15 15:11:54 -0400 (Sun, 15 Oct 2023) EndedAt: 2023-10-15 15:12:48 -0400 (Sun, 15 Oct 2023) EllapsedTime: 53.8 seconds RetCode: 0 Status: OK