Package: altcdfenvs Version: 2.62.0 Command: /Library/Frameworks/R.framework/Resources/bin/R CMD check --install=check:altcdfenvs.install-out.txt --library=/Library/Frameworks/R.framework/Resources/library --no-vignettes --timings altcdfenvs_2.62.0.tar.gz StartedAt: 2023-10-15 22:27:17 -0400 (Sun, 15 Oct 2023) EndedAt: 2023-10-15 22:31:47 -0400 (Sun, 15 Oct 2023) EllapsedTime: 269.8 seconds RetCode: 0 Status: OK CheckDir: altcdfenvs.Rcheck Warnings: 0