Package: altcdfenvs Version: 2.62.0 Command: /Library/Frameworks/R.framework/Resources/bin/R CMD build --keep-empty-dirs --no-resave-data altcdfenvs StartedAt: 2023-10-15 16:41:05 -0400 (Sun, 15 Oct 2023) EndedAt: 2023-10-15 16:43:11 -0400 (Sun, 15 Oct 2023) EllapsedTime: 126.7 seconds RetCode: 0 Status: OK PackageFile: altcdfenvs_2.62.0.tar.gz PackageFileSize: 669 KiB