Package: altcdfenvs Version: 2.62.0 Command: rm -rf altcdfenvs.buildbin-libdir && mkdir altcdfenvs.buildbin-libdir && /Users/biocbuild/BBS/utils/build-universal.sh altcdfenvs_2.62.0.tar.gz /Library/Frameworks/R.framework/Resources/bin/R altcdfenvs.buildbin-libdir StartedAt: 2023-10-16 08:57:07 -0400 (Mon, 16 Oct 2023) EndedAt: 2023-10-16 08:58:02 -0400 (Mon, 16 Oct 2023) EllapsedTime: 55.4 seconds RetCode: 0 Status: OK PackageFile: altcdfenvs_2.62.0.tgz PackageFileSize: 1.109 MiB