Package: alpine Version: 1.26.0 Command: /Library/Frameworks/R.framework/Resources/bin/R CMD INSTALL alpine StartedAt: 2023-10-15 15:35:38 -0400 (Sun, 15 Oct 2023) EndedAt: 2023-10-15 15:37:31 -0400 (Sun, 15 Oct 2023) EllapsedTime: 112.1 seconds RetCode: 0 Status: OK