Package: alabaster Version: 1.0.0 Command: F:\biocbuild\bbs-3.17-bioc\R\bin\R.exe CMD check --no-multiarch --install=check:alabaster.install-out.txt --library=F:\biocbuild\bbs-3.17-bioc\R\library --no-vignettes --timings alabaster_1.0.0.tar.gz StartedAt: 2023-10-15 23:20:26 -0400 (Sun, 15 Oct 2023) EndedAt: 2023-10-15 23:24:15 -0400 (Sun, 15 Oct 2023) EllapsedTime: 229.4 seconds RetCode: 0 Status: OK CheckDir: alabaster.Rcheck Warnings: 0