Package: alabaster Version: 1.0.0 Command: rm -rf alabaster.buildbin-libdir && mkdir alabaster.buildbin-libdir && F:\biocbuild\bbs-3.17-bioc\R\bin\R.exe CMD INSTALL --build --library=alabaster.buildbin-libdir alabaster_1.0.0.tar.gz StartedAt: 2023-10-16 08:23:43 -0400 (Mon, 16 Oct 2023) EndedAt: 2023-10-16 08:24:46 -0400 (Mon, 16 Oct 2023) EllapsedTime: 62.6 seconds RetCode: 0 Status: OK PackageFile: alabaster_1.0.0.zip PackageFileSize: 223.9 KiB