Package: alabaster Version: 1.0.0 Command: /home/biocbuild/bbs-3.17-bioc/R/bin/R CMD check --install=check:alabaster.install-out.txt --library=/home/biocbuild/bbs-3.17-bioc/R/site-library --timings alabaster_1.0.0.tar.gz StartedAt: 2023-10-15 19:06:45 -0400 (Sun, 15 Oct 2023) EndedAt: 2023-10-15 19:10:49 -0400 (Sun, 15 Oct 2023) EllapsedTime: 243.7 seconds RetCode: 0 Status: OK CheckDir: alabaster.Rcheck Warnings: 0