Package: alabaster.vcf Version: 1.0.0 Command: F:\biocbuild\bbs-3.17-bioc\R\bin\R.exe CMD check --no-multiarch --install=check:alabaster.vcf.install-out.txt --library=F:\biocbuild\bbs-3.17-bioc\R\library --no-vignettes --timings alabaster.vcf_1.0.0.tar.gz StartedAt: 2023-10-15 23:22:15 -0400 (Sun, 15 Oct 2023) EndedAt: 2023-10-15 23:27:17 -0400 (Sun, 15 Oct 2023) EllapsedTime: 302.1 seconds RetCode: 0 Status: OK CheckDir: alabaster.vcf.Rcheck Warnings: 0