Package: alabaster.vcf Version: 1.0.0 Command: chmod a+r alabaster.vcf -R && F:\biocbuild\bbs-3.17-bioc\R\bin\R.exe CMD build --keep-empty-dirs --no-resave-data alabaster.vcf StartedAt: 2023-10-15 17:12:38 -0400 (Sun, 15 Oct 2023) EndedAt: 2023-10-15 17:13:44 -0400 (Sun, 15 Oct 2023) EllapsedTime: 66.2 seconds RetCode: 0 Status: OK PackageFile: alabaster.vcf_1.0.0.tar.gz PackageFileSize: 223.8 KiB