Package: alabaster.vcf Version: 1.0.0 Command: /Library/Frameworks/R.framework/Resources/bin/R CMD check --install=check:alabaster.vcf.install-out.txt --library=/Library/Frameworks/R.framework/Resources/library --no-vignettes --timings alabaster.vcf_1.0.0.tar.gz StartedAt: 2023-10-15 22:26:09 -0400 (Sun, 15 Oct 2023) EndedAt: 2023-10-15 22:38:51 -0400 (Sun, 15 Oct 2023) EllapsedTime: 762.3 seconds RetCode: 0 Status: OK CheckDir: alabaster.vcf.Rcheck Warnings: 0