Package: alabaster.vcf Version: 1.0.0 Command: /Library/Frameworks/R.framework/Resources/bin/R CMD build --keep-empty-dirs --no-resave-data alabaster.vcf StartedAt: 2023-10-15 16:40:20 -0400 (Sun, 15 Oct 2023) EndedAt: 2023-10-15 16:42:41 -0400 (Sun, 15 Oct 2023) EllapsedTime: 140.6 seconds RetCode: 0 Status: OK PackageFile: alabaster.vcf_1.0.0.tar.gz PackageFileSize: 223.7 KiB