Package: alabaster.string Version: 1.0.1 Command: /Library/Frameworks/R.framework/Resources/bin/R CMD INSTALL alabaster.string StartedAt: 2023-10-15 15:21:47 -0400 (Sun, 15 Oct 2023) EndedAt: 2023-10-15 15:22:27 -0400 (Sun, 15 Oct 2023) EllapsedTime: 40.1 seconds RetCode: 0 Status: OK