Package: alabaster.string Version: 1.0.1 Command: /Library/Frameworks/R.framework/Resources/bin/R CMD check --install=check:alabaster.string.install-out.txt --library=/Library/Frameworks/R.framework/Resources/library --no-vignettes --timings alabaster.string_1.0.1.tar.gz StartedAt: 2023-10-15 22:24:45 -0400 (Sun, 15 Oct 2023) EndedAt: 2023-10-15 22:28:00 -0400 (Sun, 15 Oct 2023) EllapsedTime: 195.4 seconds RetCode: 0 Status: OK CheckDir: alabaster.string.Rcheck Warnings: 0