Package: alabaster.string Version: 1.0.1 Command: /Library/Frameworks/R.framework/Resources/bin/R CMD build --keep-empty-dirs --no-resave-data alabaster.string StartedAt: 2023-10-15 16:40:20 -0400 (Sun, 15 Oct 2023) EndedAt: 2023-10-15 16:40:59 -0400 (Sun, 15 Oct 2023) EllapsedTime: 39.3 seconds RetCode: 0 Status: OK PackageFile: alabaster.string_1.0.1.tar.gz PackageFileSize: 219.6 KiB