Package: alabaster.string Version: 1.0.1 Command: rm -rf alabaster.string.buildbin-libdir && mkdir alabaster.string.buildbin-libdir && /Users/biocbuild/BBS/utils/build-universal.sh alabaster.string_1.0.1.tar.gz /Library/Frameworks/R.framework/Resources/bin/R alabaster.string.buildbin-libdir StartedAt: 2023-10-16 08:56:44 -0400 (Mon, 16 Oct 2023) EndedAt: 2023-10-16 08:57:24 -0400 (Mon, 16 Oct 2023) EllapsedTime: 39.4 seconds RetCode: 0 Status: OK PackageFile: alabaster.string_1.0.1.tgz PackageFileSize: 252.8 KiB