Package: alabaster.spatial Version: 1.0.0 Command: /Library/Frameworks/R.framework/Resources/bin/R CMD INSTALL alabaster.spatial StartedAt: 2023-10-15 16:17:49 -0400 (Sun, 15 Oct 2023) EndedAt: 2023-10-15 16:19:18 -0400 (Sun, 15 Oct 2023) EllapsedTime: 88.5 seconds RetCode: 0 Status: OK