Package: alabaster.spatial Version: 1.0.0 Command: /Library/Frameworks/R.framework/Resources/bin/R CMD build --keep-empty-dirs --no-resave-data alabaster.spatial StartedAt: 2023-10-15 16:40:07 -0400 (Sun, 15 Oct 2023) EndedAt: 2023-10-15 16:41:50 -0400 (Sun, 15 Oct 2023) EllapsedTime: 103.0 seconds RetCode: 0 Status: OK PackageFile: alabaster.spatial_1.0.0.tar.gz PackageFileSize: 626.8 KiB