Package: alabaster.spatial Version: 1.0.0 Command: rm -rf alabaster.spatial.buildbin-libdir && mkdir alabaster.spatial.buildbin-libdir && /Users/biocbuild/BBS/utils/build-universal.sh alabaster.spatial_1.0.0.tar.gz /Library/Frameworks/R.framework/Resources/bin/R alabaster.spatial.buildbin-libdir StartedAt: 2023-10-16 08:56:43 -0400 (Mon, 16 Oct 2023) EndedAt: 2023-10-16 08:58:21 -0400 (Mon, 16 Oct 2023) EllapsedTime: 98.3 seconds RetCode: 0 Status: OK PackageFile: alabaster.spatial_1.0.0.tgz PackageFileSize: 677.9 KiB