Package: alabaster.se Version: 1.0.0 Command: /home/biocbuild/bbs-3.17-bioc/R/bin/R CMD INSTALL alabaster.se StartedAt: 2023-10-15 15:41:34 -0400 (Sun, 15 Oct 2023) EndedAt: 2023-10-15 15:41:55 -0400 (Sun, 15 Oct 2023) EllapsedTime: 21.1 seconds RetCode: 0 Status: OK