Package: alabaster.se Version: 1.0.0 Command: /home/biocbuild/bbs-3.17-bioc/R/bin/R CMD check --install=check:alabaster.se.install-out.txt --library=/home/biocbuild/bbs-3.17-bioc/R/site-library --timings alabaster.se_1.0.0.tar.gz StartedAt: 2023-10-15 19:08:01 -0400 (Sun, 15 Oct 2023) EndedAt: 2023-10-15 19:10:47 -0400 (Sun, 15 Oct 2023) EllapsedTime: 166.8 seconds RetCode: 0 Status: OK CheckDir: alabaster.se.Rcheck Warnings: 0