Package: alabaster.se Version: 1.0.0 Command: /home/biocbuild/bbs-3.17-bioc/R/bin/R CMD build --keep-empty-dirs --no-resave-data alabaster.se StartedAt: 2023-10-15 15:54:03 -0400 (Sun, 15 Oct 2023) EndedAt: 2023-10-15 15:54:34 -0400 (Sun, 15 Oct 2023) EllapsedTime: 30.5 seconds RetCode: 0 Status: OK PackageFile: alabaster.se_1.0.0.tar.gz PackageFileSize: 223.7 KiB