Package: alabaster.schemas Version: 1.0.2 Command: F:\biocbuild\bbs-3.17-bioc\R\bin\R.exe CMD INSTALL alabaster.schemas StartedAt: 2023-10-15 15:46:54 -0400 (Sun, 15 Oct 2023) EndedAt: 2023-10-15 15:47:01 -0400 (Sun, 15 Oct 2023) EllapsedTime: 6.3 seconds RetCode: 0 Status: OK