Package: alabaster.schemas Version: 1.0.2 Command: chmod a+r alabaster.schemas -R && F:\biocbuild\bbs-3.17-bioc\R\bin\R.exe CMD build --keep-empty-dirs --no-resave-data alabaster.schemas StartedAt: 2023-10-15 17:12:27 -0400 (Sun, 15 Oct 2023) EndedAt: 2023-10-15 17:12:33 -0400 (Sun, 15 Oct 2023) EllapsedTime: 6.1 seconds RetCode: 0 Status: OK PackageFile: alabaster.schemas_1.0.2.tar.gz PackageFileSize: 235.2 KiB