Package: alabaster.schemas Version: 1.0.2 Command: rm -rf alabaster.schemas.buildbin-libdir && mkdir alabaster.schemas.buildbin-libdir && F:\biocbuild\bbs-3.17-bioc\R\bin\R.exe CMD INSTALL --build --library=alabaster.schemas.buildbin-libdir alabaster.schemas_1.0.2.tar.gz StartedAt: 2023-10-16 08:23:54 -0400 (Mon, 16 Oct 2023) EndedAt: 2023-10-16 08:23:58 -0400 (Mon, 16 Oct 2023) EllapsedTime: 4.6 seconds RetCode: 0 Status: OK PackageFile: alabaster.schemas_1.0.2.zip PackageFileSize: 284.6 KiB