Package: alabaster.schemas Version: 1.0.2 Command: /home/biocbuild/bbs-3.17-bioc/R/bin/R CMD check --install=check:alabaster.schemas.install-out.txt --library=/home/biocbuild/bbs-3.17-bioc/R/site-library --timings alabaster.schemas_1.0.2.tar.gz StartedAt: 2023-10-15 19:07:53 -0400 (Sun, 15 Oct 2023) EndedAt: 2023-10-15 19:08:04 -0400 (Sun, 15 Oct 2023) EllapsedTime: 10.3 seconds RetCode: 0 Status: OK CheckDir: alabaster.schemas.Rcheck Warnings: 0