Package: alabaster.schemas Version: 1.0.2 Command: /home/biocbuild/bbs-3.17-bioc/R/bin/R CMD build --keep-empty-dirs --no-resave-data alabaster.schemas StartedAt: 2023-10-15 15:54:00 -0400 (Sun, 15 Oct 2023) EndedAt: 2023-10-15 15:54:03 -0400 (Sun, 15 Oct 2023) EllapsedTime: 3.0 seconds RetCode: 0 Status: OK PackageFile: alabaster.schemas_1.0.2.tar.gz PackageFileSize: 235.1 KiB