Package: alabaster.schemas Version: 1.0.2 Command: /Library/Frameworks/R.framework/Resources/bin/R CMD check --install=check:alabaster.schemas.install-out.txt --library=/Library/Frameworks/R.framework/Resources/library --no-vignettes --timings alabaster.schemas_1.0.2.tar.gz StartedAt: 2023-10-15 22:24:26 -0400 (Sun, 15 Oct 2023) EndedAt: 2023-10-15 22:24:44 -0400 (Sun, 15 Oct 2023) EllapsedTime: 18.9 seconds RetCode: 0 Status: OK CheckDir: alabaster.schemas.Rcheck Warnings: 0