Package: alabaster.sce Version: 1.0.0 Command: F:\biocbuild\bbs-3.17-bioc\R\bin\R.exe CMD INSTALL alabaster.sce StartedAt: 2023-10-15 16:53:11 -0400 (Sun, 15 Oct 2023) EndedAt: 2023-10-15 16:53:38 -0400 (Sun, 15 Oct 2023) EllapsedTime: 26.5 seconds RetCode: 0 Status: OK