Package: alabaster.sce Version: 1.0.0 Command: F:\biocbuild\bbs-3.17-bioc\R\bin\R.exe CMD check --no-multiarch --install=check:alabaster.sce.install-out.txt --library=F:\biocbuild\bbs-3.17-bioc\R\library --no-vignettes --timings alabaster.sce_1.0.0.tar.gz StartedAt: 2023-10-15 23:20:57 -0400 (Sun, 15 Oct 2023) EndedAt: 2023-10-15 23:23:51 -0400 (Sun, 15 Oct 2023) EllapsedTime: 174.4 seconds RetCode: 0 Status: OK CheckDir: alabaster.sce.Rcheck Warnings: 0