Package: alabaster.sce Version: 1.0.0 Command: chmod a+r alabaster.sce -R && F:\biocbuild\bbs-3.17-bioc\R\bin\R.exe CMD build --keep-empty-dirs --no-resave-data alabaster.sce StartedAt: 2023-10-15 17:12:19 -0400 (Sun, 15 Oct 2023) EndedAt: 2023-10-15 17:12:55 -0400 (Sun, 15 Oct 2023) EllapsedTime: 36.4 seconds RetCode: 0 Status: OK PackageFile: alabaster.sce_1.0.0.tar.gz PackageFileSize: 220.1 KiB