Package: alabaster.sce Version: 1.0.0 Command: /home/biocbuild/bbs-3.17-bioc/R/bin/R CMD INSTALL alabaster.sce StartedAt: 2023-10-15 15:41:56 -0400 (Sun, 15 Oct 2023) EndedAt: 2023-10-15 15:42:19 -0400 (Sun, 15 Oct 2023) EllapsedTime: 22.7 seconds RetCode: 0 Status: OK