Package: alabaster.sce Version: 1.0.0 Command: /home/biocbuild/bbs-3.17-bioc/R/bin/R CMD check --install=check:alabaster.sce.install-out.txt --library=/home/biocbuild/bbs-3.17-bioc/R/site-library --timings alabaster.sce_1.0.0.tar.gz StartedAt: 2023-10-15 19:07:25 -0400 (Sun, 15 Oct 2023) EndedAt: 2023-10-15 19:10:28 -0400 (Sun, 15 Oct 2023) EllapsedTime: 183.5 seconds RetCode: 0 Status: OK CheckDir: alabaster.sce.Rcheck Warnings: 0