Package: alabaster.sce Version: 1.0.0 Command: /Library/Frameworks/R.framework/Resources/bin/R CMD check --install=check:alabaster.sce.install-out.txt --library=/Library/Frameworks/R.framework/Resources/library --no-vignettes --timings alabaster.sce_1.0.0.tar.gz StartedAt: 2023-10-15 22:24:26 -0400 (Sun, 15 Oct 2023) EndedAt: 2023-10-15 22:31:41 -0400 (Sun, 15 Oct 2023) EllapsedTime: 435.9 seconds RetCode: 0 Status: OK CheckDir: alabaster.sce.Rcheck Warnings: 0