Package: alabaster.sce Version: 1.0.0 Command: /Library/Frameworks/R.framework/Resources/bin/R CMD build --keep-empty-dirs --no-resave-data alabaster.sce StartedAt: 2023-10-15 16:39:55 -0400 (Sun, 15 Oct 2023) EndedAt: 2023-10-15 16:41:15 -0400 (Sun, 15 Oct 2023) EllapsedTime: 80.5 seconds RetCode: 0 Status: OK PackageFile: alabaster.sce_1.0.0.tar.gz PackageFileSize: 220 KiB